View In:
ArcGIS JavaScript
ArcGIS Online Map Viewer
ArcGIS Earth
ArcGIS Pro
Service Description: Aerial Photography Download SID file (Orthophoto) of Washington, DC at 3 inch resolution. Dated 2021.
2021 Orthophoto - 3 inch resolution: This document describes the processes used to create the orthoimagery data produced for the District of Columbia from 2021 digital aerial photography. It was flown on March 11, 2021. The aerial imagery acquisition was flown to support the creation of 4-band digital orthophotography with a 3 inch/0.08 meter pixel resolution over the full project area covering the District of Columbia which is approximately 69 square miles. The contractor received waivers to fly in the Flight Restricted Zone (FRZ) and P-56 areas. The ortho imagery was submitted to DC OCTO in GeoTiff/TFW format tiles following the tile scheme provided by OCTO. MrSID and JPEG2000 compressed mosaics were delivered as well using a 50:1 compression ratio.
Map Name: Ortho2021_WebMercator
Legend
All Layers and Tables
Layers:
Description:
Copyright Text:
Spatial Reference:
102100
(3857)
LatestVCSWkid(0)
Single Fused Map Cache: true
Tile Info:
- Height: 256.0
- Width: 256.0
- DPI: 96.0
-
Levels of Detail: 24
-
Level ID: 1
[ Start Tile, End Tile ]
- Resolution: 78271.5169639999
- Scale: 2.95828763795777E8
-
Level ID: 2
[ Start Tile, End Tile ]
- Resolution: 39135.7584820001
- Scale: 1.47914381897889E8
-
Level ID: 3
[ Start Tile, End Tile ]
- Resolution: 19567.8792409999
- Scale: 7.3957190948944E7
-
Level ID: 4
[ Start Tile, End Tile ]
- Resolution: 9783.93962049996
- Scale: 3.6978595474472E7
-
Level ID: 5
[ Start Tile, End Tile ]
- Resolution: 4891.96981024998
- Scale: 1.8489297737236E7
- Format: Mixed
- Compression Quality: 75.0
- Origin: X: -2.0037508342787E7
Y: 2.0037508342787E7
- Spatial Reference: 102100
(3857)
LatestVCSWkid(0)
Storage Info:
- Storage Format: esriMapCacheStorageModeCompactV2
- Packet Size: 128
Initial Extent:
XMin: -8600262.87319635
YMin: 4685832.037533615
XMax: -8545505.614601592
YMax: 4727067.546267826
Spatial Reference: 102100
(0)
LatestVCSWkid(0)
Full Extent:
XMin: -8585223.585392209
YMin: 4690991.117355736
XMax: -8560548.79475327
YMax: 4721922.7524529835
Spatial Reference: 102100
(0)
LatestVCSWkid(0)
Units: esriMeters
Supported Image Format Types: PNG32,PNG24,PNG,JPG,DIB,TIFF,EMF,PS,PDF,GIF,SVG,SVGZ,BMP
Document Info:
Title: Map
Author:
Comments:
Subject:
Category:
Keywords: dc,ortho,2021
AntialiasingMode: Fast
TextAntialiasingMode: Force
Supports Dynamic Layers: false
Resampling: false
MaxRecordCount: 2000
MaxSelectionCount: 2000
MaxImageHeight: 4096
MaxImageWidth: 4096
Supported Query Formats: JSON, geoJSON, PBF
Supports Query Data Elements: true
Min Scale: 5.91657527591555E8
Max Scale: 1128.497176
Min LOD: 0
Max LOD: 19
Supports Datum Transformation: true
Child Resources:
Info
Supported Operations:
Export Map
Identify
QueryLegends
QueryDomains
Find
Return Updates
Generate KML